BEGIN:VCALENDAR
VERSION:2.0
PRODID:-//wp-events-plugin.com//7.2.3.1//EN
TZID:Europe/Berlin
X-WR-TIMEZONE:Europe/Berlin
BEGIN:VEVENT
UID:3@geistlicher-ort-hofheim.de
DTSTART;TZID=Europe/Berlin:20240406T110000
DTEND;TZID=Europe/Berlin:20240406T170000
DTSTAMP:20250614T070958Z
URL:https://geistlicher-ort-hofheim.de/unser-angebot/veranstaltungen/06-ap
 ril-2024mystik-am-samstag/
SUMMARY:Mystik am Samstag
DESCRIPTION:6.4.24.\, 11-17h\, Gebet – Das DU und das Wort\n\n„Wenn an 
 Gott glauben bedeutet\, von ihm in der dritten Person reden zu können\, g
 laube ich nicht an Gott. Wenn an ihn glauben bedeutet\, zu ihm reden zu k
 önnen\, glaube ich an Gott.“ (Martin Buber)\n\nBeten ist universell und
  Herzstück aller Religionen. Das DU\, zu dem ich bete\, wird zum/zur Vert
 rauten. Das Gebet ist Dreh- und Angelpunkt des Klosterlebens\, die so gena
 nnten „Horen“ strukturieren dort den Alltag. Wir erforschen an diesem 
 Tag verschiedene Gebetsweisen und erspüren\, welches Beten uns prägt und
  stärkt.\n\nIn unserer Reihe geht es diesmal um fünf Grundübungen der M
 ystik – Schweigen\, Gebet\, Askese\, Mitgefühl und Beständigkeit. – 
 Menschen in den Klöstern sind Experten der Mystik. Das Erspüren von und 
 das Leben mit Gott ist ihr Beruf – und das schon seit Jahrhunderten. Auc
 h außerhalb der Klöster wünschen sich viele ein kontemplatives Leben im
  Alltag. Lernen wir also von den Expertinnen und Experten wie z.B. David S
 teindl-Rast\, Martin Buber\, Dorothee Sölle und anderen. \n\nBegleitung: 
 Helmut Schlegel und Ricarda Moufang. \n\nZeit: 11 - 17 h\, Kosten: € 30 
 - 60\, je nach Einkommen\n\nAnmeldung: helmut.schlegel@franziskaner.de
LOCATION:Bildungs- und Exerzitienhaus Kloster Salmünster\, Franziskanergas
 se 263628 Bad Soden-Salmünster\, Deutschland
X-APPLE-STRUCTURED-LOCATION;VALUE=URI;X-ADDRESS=Franziskanergasse 263628 Ba
 d Soden-Salmünster\, Deutschland;X-APPLE-RADIUS=100;X-TITLE=Bildungs- und
  Exerzitienhaus Kloster Salmünster:geo:0,0
END:VEVENT
BEGIN:VTIMEZONE
TZID:Europe/Berlin
X-LIC-LOCATION:Europe/Berlin
BEGIN:DAYLIGHT
DTSTART:20240331T030000
TZOFFSETFROM:+0100
TZOFFSETTO:+0200
TZNAME:CEST
END:DAYLIGHT
END:VTIMEZONE
END:VCALENDAR