BEGIN:VCALENDAR
VERSION:2.0
PRODID:-//wp-events-plugin.com//7.2.3.1//EN
TZID:Europe/Berlin
X-WR-TIMEZONE:Europe/Berlin
BEGIN:VEVENT
UID:37@geistlicher-ort-hofheim.de
DTSTART;TZID=Europe/Berlin:20250301T100000
DTEND;TZID=Europe/Berlin:20250301T170000
DTSTAMP:20250616T200933Z
URL:https://geistlicher-ort-hofheim.de/unser-angebot/veranstaltungen/1-mae
 rz-2025-haltestelle-haltestille/
SUMMARY:HalteStelle.HalteStille
DESCRIPTION:Reihe HalteStelle.HalteStille\nManchmal tut es gut\, sich eine 
 kleine Auszeit zu gönnen. Sich herauszulösen aus dem Alltag und hineinzu
 gehen in den Raum der Stille. Eine Zeit für mich – eine Zeit für das g
 öttliche Du – eine Zeit im Miteinander.\nDas Angebot HalteStelle.HalteS
 tille möchte einen Rahmen schenken und lädt ein zur persönlichen Besinn
 ung und Orientierung der eigenen Lebenswirklichkeit.\nElemente: Übung zum
  Ankommen und Wahrnehmen\, thematischer Impuls\, Zeit für Stille und Gesp
 räch\, Mahl-Zeit\, Gebet und Segen zum Aufbruch.\n\nKosten: € 30 – Ve
 rpflegung gesondert\nBegleitung: Br. Norbert Lammers\, Franziskaner\n\nZur
  Anmeldung\, Bezahlung und Verpflegung: Allgemeine Hinweise\nTermine 2025:
  01.03./03.05./05.07./06.09./08.11. jeweils von 10 –17 Uhr
LOCATION:Drostesaal\, Haus von Guten Hirten\, Schloßstr. 115 Hofheim-Marxh
 eim\, Deutschland
X-APPLE-STRUCTURED-LOCATION;VALUE=URI;X-ADDRESS=Schloßstr. 115 Hofheim-Mar
 xheim\, Deutschland;X-APPLE-RADIUS=100;X-TITLE=Drostesaal\, Haus von Guten
  Hirten:geo:0,0
END:VEVENT
BEGIN:VTIMEZONE
TZID:Europe/Berlin
X-LIC-LOCATION:Europe/Berlin
BEGIN:STANDARD
DTSTART:20241027T020000
TZOFFSETFROM:+0200
TZOFFSETTO:+0100
TZNAME:CET
END:STANDARD
END:VTIMEZONE
END:VCALENDAR