BEGIN:VCALENDAR
VERSION:2.0
PRODID:-//wp-events-plugin.com//7.2.3.1//EN
TZID:Europe/Berlin
X-WR-TIMEZONE:Europe/Berlin
BEGIN:VEVENT
UID:21@geistlicher-ort-hofheim.de
DTSTART;TZID=Europe/Berlin:20251011T110000
DTEND;TZID=Europe/Berlin:20251011T170000
DTSTAMP:20250716T070804Z
URL:https://geistlicher-ort-hofheim.de/unser-angebot/veranstaltungen/11-ok
 tober-2025-mystik-am-samstag/
SUMMARY:Mystik am Samstag
DESCRIPTION:„Du hast mein Klagen in Tanzen verwandelt“ (Ps 30\,129) –
 \nDie Mystik der Psalmengesänge\nDie Psalmen als die Gebete und Gesänge 
 des Volkes Israel bleiben uns Menschen von heute oft fremd\, sie erschlie
 ßen uns jedoch\, wenn wir uns auf ihre Tiefe und poetische Aussagekraft e
 inlassen\, eine ungeahnte Schönheit und ein Feld weiter Gotteserfahrung. 
 Da darf geklagt\, gehadert\, aber auch gejubelt und gelacht werden. Wir la
 den dazu ein\, Psalmen gesprochen und gesungen zu hören\, sie zu meditier
 en und selbst einen Psalm zu schreiben.\n\nIm Herzen Gottes sein – Reihe
  Mystik am Samstag\nWir laden ein zu einem geistlichen Erfahrungsweg\, der
  unsere Seele für das Geheimnis Gottes öffnet. Die Mystiktage 2025 orien
 tieren sich an der Atmosphäre der vier Jahreszeiten und an den Geheimniss
 en der großen Feste (Lichtmess\, Ostern\, Erntedank\, Weihnachten).\nElem
 ente: Biblische und spirituelle Impulse\, Zeiten der Stille in der Natur o
 der im Haus\, mehrmals 15 Minuten Schweigemeditation\, Übungen\, Austausc
 h\, Segensritual.\nLeitung: Helmut Schlegel\, Franziskaner\, Exerzitien- u
 nd Meditationsbegleiter\, Hofheim\, Ricarda Moufang\, Exerzitienbegleiteri
 n\, Frankfurt/M.\nZeit: Samstag\, 11-17 Uhr\nKosten: € 30-60\, je nach E
 inkommen\nHinweis: Die Übungstage können einzeln besucht werden.
ATTACH;FMTTYPE=image/jpeg:https://geistlicher-ort-hofheim.de/wp-content/up
 loads/2025/06/christ-1618197_1280.jpg
LOCATION:Drostesaal\, Haus von Guten Hirten\, Schloßstr. 115 Hofheim-Marxh
 eim\, Deutschland
X-APPLE-STRUCTURED-LOCATION;VALUE=URI;X-ADDRESS=Schloßstr. 115 Hofheim-Mar
 xheim\, Deutschland;X-APPLE-RADIUS=100;X-TITLE=Drostesaal\, Haus von Guten
  Hirten:geo:0,0
END:VEVENT
BEGIN:VTIMEZONE
TZID:Europe/Berlin
X-LIC-LOCATION:Europe/Berlin
BEGIN:DAYLIGHT
DTSTART:20250330T030000
TZOFFSETFROM:+0100
TZOFFSETTO:+0200
TZNAME:CEST
END:DAYLIGHT
END:VTIMEZONE
END:VCALENDAR