BEGIN:VCALENDAR
VERSION:2.0
PRODID:-//wp-events-plugin.com//7.2.3.1//EN
TZID:Europe/Berlin
X-WR-TIMEZONE:Europe/Berlin
BEGIN:VEVENT
UID:33@geistlicher-ort-hofheim.de
DTSTART;TZID=Europe/Berlin;VALUE=DATE:20250113
DTEND;TZID=Europe/Berlin;VALUE=DATE:20250203
DTSTAMP:20250614T072757Z
URL:https://geistlicher-ort-hofheim.de/unser-angebot/veranstaltungen/13-ja
 nuar-02-februar-2025-durch-seine-wunden-sind-wir-geheilt-online-exerzitien
 /
SUMMARY:Durch seine Wunden sind wir geheilt – Online-Exerzitien
DESCRIPTION:Durch seine Wunden sind wir geheilt – von der Kraft der Verwu
 ndbarkeit.\n\nSchon als Kinder mussten wir schmerzlich erfahren\, dass wir
  verwundbar sind. Mit manchen Wunden sind unserer Körper und unsere Seele
  fertig geworden\, mit anderen nicht. Gerade in der Verwundbarkeit liegt a
 uch eine Ressource: unsere Immunkräfte werden gestärkt.\nHeute leben wir
  in einer Welt\, die aus vielen Wunden blutet. Wie können wir da leben? K
 önnen aus unserer Verwundbarkeit neue Kräfte erwachsen? Was bedeutet das
  für unser Zusammenleben im Kleinen und im Großen? Was bedeutet das bibl
 ische Wort mit dem Blick auf Jesus: „Durch seine Wunden sind wir geheilt
 “ (1 Petr 2\,24)?\n\nWährend der Online-Exerzitien können Sie ihren Al
 ltag wie gewohnt gestalten und Ihrer Arbeit nachgehen. Zeiten der Stille t
 eilen Sie sich selbst ein. Wir schicken Ihnen per E-Mail jeweils am Montag
 \, Mittwoch und Freitag ein Impulsblatt mit Anregungen\, biblischen Texten
  und Meditationen zum Thema zu. Für eine begrenzte Zahl von Teilnehmenden
  ist auch eine Begleitung per Mail oder Telefon möglich.\n\nLeitung: Norb
 ert Lammers\, Franziskaner\, Exerzitienbegleiter\, Hofheim\, Ricarda Moufa
 ng\, Helmut Schlegel\, Franziskaner\, Hofheim. Kosten: € 60\nAnmeldung: 
 bitte ausschließlich per Mail an helmut.schlegel@franziskaner.de mit Anga
 be Ihrer Kontaktdaten.
LOCATION:mailto:helmut.schlegel@franziskaner.de
END:VEVENT
BEGIN:VTIMEZONE
TZID:Europe/Berlin
X-LIC-LOCATION:Europe/Berlin
BEGIN:STANDARD
DTSTART:20241027T020000
TZOFFSETFROM:+0200
TZOFFSETTO:+0100
TZNAME:CET
END:STANDARD
END:VTIMEZONE
END:VCALENDAR