BEGIN:VCALENDAR
VERSION:2.0
PRODID:-//wp-events-plugin.com//7.2.3.1//EN
TZID:Europe/Berlin
X-WR-TIMEZONE:Europe/Berlin
BEGIN:VEVENT
UID:46@geistlicher-ort-hofheim.de
DTSTART;TZID=Europe/Berlin:20250815T153000
DTEND;TZID=Europe/Berlin:20250815T180000
DTSTAMP:20250814T095521Z
URL:https://geistlicher-ort-hofheim.de/unser-angebot/veranstaltungen/15-au
 gust-mariae-himmelfahrt/
SUMMARY:14. August - Sträuße für Mariä Himmelfahrt
DESCRIPTION:Am Freitag\, den 15.8.\, feiern wir um 17h das Fest Mariä Himm
 elfahrt. Am Donnerstag\, den 14.8. um 15.30h treffen wir uns im Drostesaal
 \, um Kräutersträuße zu gestalten - herzliche Einladung!
ATTACH;FMTTYPE=image/jpeg:https://geistlicher-ort-hofheim.de/wp-content/up
 loads/2025/08/Kraeuterstrauss.jpg
LOCATION:Drostesaal\, Haus von Guten Hirten\, Schloßstr. 115 Hofheim-Marxh
 eim\, Deutschland
X-APPLE-STRUCTURED-LOCATION;VALUE=URI;X-ADDRESS=Schloßstr. 115 Hofheim-Mar
 xheim\, Deutschland;X-APPLE-RADIUS=100;X-TITLE=Drostesaal\, Haus von Guten
  Hirten:geo:0,0
END:VEVENT
BEGIN:VTIMEZONE
TZID:Europe/Berlin
X-LIC-LOCATION:Europe/Berlin
BEGIN:DAYLIGHT
DTSTART:20250330T030000
TZOFFSETFROM:+0100
TZOFFSETTO:+0200
TZNAME:CEST
END:DAYLIGHT
END:VTIMEZONE
END:VCALENDAR