BEGIN:VCALENDAR
VERSION:2.0
PRODID:-//wp-events-plugin.com//7.2.3.1//EN
TZID:Europe/Berlin
X-WR-TIMEZONE:Europe/Berlin
BEGIN:VEVENT
UID:32@geistlicher-ort-hofheim.de
DTSTART;TZID=Europe/Berlin:20240615T110000
DTEND;TZID=Europe/Berlin:20240615T170000
DTSTAMP:20250614T072547Z
URL:https://geistlicher-ort-hofheim.de/unser-angebot/veranstaltungen/15-ju
 ni-2024-mystik-am-samstag/
SUMMARY:Mystik am Samstag
DESCRIPTION:15. Juni: Askese: Endlich die Fesseln ablegen – Verzicht und 
 Freiheit\n\n"Es gibt keine Askese um der Askese willen. Im Christentum hat
  sie nur Sinn als Weg zur Freiheit der Kinder Gottes." (Hans Schneider\, 1
 5. Jh.)\n\nDurch Verzicht frei werden – das ist das eigentliche Anliegen
  der Enthaltsamkeit. In unserer genussorientierten Konsumwelt haben wir he
 ute wenig Sinn für diese Praxis. Das Fasten hat in allen Religionen eine 
 lange Tradition. Wie geht es mir mit Askese? Praktiziere ich sie? Was für
  eine Art von „Freiheit“ kann ich dadurch gewinnen? Diese Fragen werde
 n uns an diesem Samstag beschäftigen.\n\nIn unserer Reihe geht es diesmal
  um fünf Grundübungen der Mystik – Schweigen\, Gebet\, Askese\, Mitgef
 ühl und Beständigkeit. – Menschen in den Klöstern sind Experten der M
 ystik. Das Erspüren von und das Leben mit Gott ist ihr Beruf – und das 
 schon seit Jahrhunderten. Auch außerhalb der Klöster wünschen sich viel
 e ein kontemplatives Leben im Alltag. Lernen wir also von den Expertinnen 
 und Experten wie z.B. David Steindl-Rast\, Martin Buber\, Dorothee Sölle 
 und anderen.\n\nBegleitung: Helmut Schlegel\, Ricarda Moufang\n\nZeit: 11 
 - 17 h\, Kosten: €30 - 60\, je nach Einkommen\n\nAnmeldung: helmut.schle
 gel@franziskaner.de
LOCATION:Meditationsraum\, Haus vom Guten Hirten\, Schloßstr. 11565719 Hof
 heim-Marxheim\, Deutschland
X-APPLE-STRUCTURED-LOCATION;VALUE=URI;X-ADDRESS=Schloßstr. 11565719 Hofhei
 m-Marxheim\, Deutschland;X-APPLE-RADIUS=100;X-TITLE=Meditationsraum\, Haus
  vom Guten Hirten:geo:0,0
END:VEVENT
BEGIN:VTIMEZONE
TZID:Europe/Berlin
X-LIC-LOCATION:Europe/Berlin
BEGIN:DAYLIGHT
DTSTART:20240331T030000
TZOFFSETFROM:+0100
TZOFFSETTO:+0200
TZNAME:CEST
END:DAYLIGHT
END:VTIMEZONE
END:VCALENDAR