BEGIN:VCALENDAR
VERSION:2.0
PRODID:-//wp-events-plugin.com//7.2.3.1//EN
TZID:Europe/Berlin
X-WR-TIMEZONE:Europe/Berlin
BEGIN:VEVENT
UID:9@geistlicher-ort-hofheim.de
DTSTART;TZID=Europe/Berlin:20251121T190000
DTEND;TZID=Europe/Berlin:20251121T231500
DTSTAMP:20250930T075016Z
URL:https://geistlicher-ort-hofheim.de/unser-angebot/veranstaltungen/21-no
 vember-2025-liturgische-nacht/
SUMMARY:Liturgische Nacht
DESCRIPTION:„Du bist gesegnet und du wirst ein Segen sein“ (Gen 12\,2) 
 - Die Erfahrung\, gesegnet zu werden und selbst ein Segen zu sein.\n\nDer 
 Beginn einer Nacht hat eine besondere Kraft. Die einbrechende Dunkelheit h
 at etwas Beschützendes und lässt uns unserem Inneren nahekommen. Liturgi
 sche Nächte öffnen Zeit- und Herzensräume\, um Gott\, sich selbst und d
 en Menschen näherzukommen. Wir laden dazu ein\, an drei Freitagen des Jah
 res miteinander eine liturgische Nacht zu feiern. Unter dem Motto „Unser
 e Hoffnung enttäuscht nicht“ (Röm 5\,5) hat Papst Franziskus 2025 zu e
 inem Heiligen Jahr erklärt. Darum stellen wir die drei Liturgischen Näch
 te unter die Themen HOFFEN – HEIL WERDEN – SEGNEN. Treffpunkt ist jewe
 ils der Drostesaal im Haus vom Guten Hirten\, Hofheim-Marxheim\nEingeladen
  sind Menschen aller Generationen. Anmeldung ist nicht notwendig.\n19:00 U
 hr: Kennenlernen und Einstimmung rund um ein einfaches Mitbring-Buffet\n20
 :00 Uhr: Impulse und Fragen von Menschen verschiedener Generationen zum je
 weiligen Thema\n20:15 Uhr: Stille Zeit – Rückzugmöglichkeit in den Med
 itationsraum zur persönlichen Kontemplation\, in die kleine kerzenerleuch
 tete Marienkapelle\, in die Kirche bei leiser Musik\, in den nahe\ngelegen
 en Wald zu einem Spaziergang…\n20:45 Uhr: Teegespräche in Dreier Gruppe
 n\n21:30 Uhr: Offenes Singen\n22:15 Uhr: Eucharistiefeier\n23:15 Uhr: Gute
 -Nacht-Segen und Abschluss\nLeitung und Gestaltung: Odila Machill\, Pastor
 alreferentin\, Matthias Adler-Machill\, Pastoralreferent\, Bärbel Hasselb
 ach\, Gemeindereferentin\, Br. Norbert Lammers\, Franziskaner\, Br. Helmut
  Schlegel\, Franziskaner
ATTACH;FMTTYPE=image/jpeg:https://geistlicher-ort-hofheim.de/wp-content/up
 loads/2025/06/night-3078326_1280.jpg
LOCATION:Drostesaal\, Haus von Guten Hirten\, Schloßstr. 115 Hofheim-Marxh
 eim\, Deutschland
X-APPLE-STRUCTURED-LOCATION;VALUE=URI;X-ADDRESS=Schloßstr. 115 Hofheim-Mar
 xheim\, Deutschland;X-APPLE-RADIUS=100;X-TITLE=Drostesaal\, Haus von Guten
  Hirten:geo:0,0
END:VEVENT
BEGIN:VTIMEZONE
TZID:Europe/Berlin
X-LIC-LOCATION:Europe/Berlin
BEGIN:STANDARD
DTSTART:20251026T020000
TZOFFSETFROM:+0200
TZOFFSETTO:+0100
TZNAME:CET
END:STANDARD
END:VTIMEZONE
END:VCALENDAR