BEGIN:VCALENDAR
VERSION:2.0
PRODID:-//wp-events-plugin.com//7.2.3.1//EN
TZID:Europe/Berlin
X-WR-TIMEZONE:Europe/Berlin
BEGIN:VEVENT
UID:19@geistlicher-ort-hofheim.de
DTSTART;TZID=Europe/Berlin:20250822T190000
DTEND;TZID=Europe/Berlin:20250822T231500
DTSTAMP:20250627T074200Z
URL:https://geistlicher-ort-hofheim.de/unser-angebot/veranstaltungen/22-au
 gust-2025-liturgische-nacht/
SUMMARY:Liturgische Nacht
DESCRIPTION:22. August „Ich bin der HERR\, dein Arzt.“ (Ex 15\,26) - Ei
 n Abend\, an dem wir uns den heilenden Kräften Gottes anvertrauen.\n\nDer
  Beginn einer Nacht hat eine besondere Kraft. Die einbrechende Dunkelheit 
 hat etwas Beschützendes und lässt uns unserem Inneren nahekommen. Liturg
 ische Nächte öffnen Zeit- und Herzensräume\, um Gott\, sich selbst und 
 den Menschen näherzukommen. Wir laden dazu ein\, an drei Freitagen des Ja
 hres miteinander eine liturgische Nacht zu feiern. Unter dem Motto „Unse
 re Hoffnung enttäuscht nicht“ (Röm 5\,5) hat Papst Franziskus 2025 zu 
 einem Heiligen Jahr erklärt. Darum stellen wir die drei Liturgischen Näc
 hte unter die Themen HOFFEN – HEIL WERDEN – SEGNEN. Treffpunkt ist jew
 eils der Drostesaal im Haus vom Guten Hirten\, Hofheim-Marxheim\nEingelade
 n sind Menschen aller Generationen. Anmeldung ist nicht notwendig.\n19:00 
 Uhr: Kennenlernen und Einstimmung rund um ein einfaches Mitbring-Buffet\n2
 0:00 Uhr: Impulse und Fragen von Menschen verschiedener Generationen zum j
 eweiligen Thema\n20:15 Uhr: Stille Zeit – Rückzugmöglichkeit in den Me
 ditationsraum zur persönlichen Kontemplation\, in die kleine kerzenerleuc
 htete Marienkapelle\, in die Kirche bei leiser Musik\, in den nahe\ngelege
 nen Wald zu einem Spaziergang…\n20:45 Uhr: Teegespräche in Dreier Grupp
 en\n21:30 Uhr: Offenes Singen\n22:15 Uhr: Eucharistiefeier\n23:15 Uhr: Gut
 e-Nacht-Segen und Abschluss\nLeitung und Gestaltung: Odila Machill\, Pasto
 ralreferentin\, Matthias Adler-Machill\, Pastoralreferent\, Bärbel Hassel
 bach\, Gemeindereferentin\, Br. Norbert Lammers\, Franziskaner\, Br. Helmu
 t Schlegel\, Franziskaner\n\n&nbsp\;
ATTACH;FMTTYPE=image/jpeg:https://geistlicher-ort-hofheim.de/wp-content/up
 loads/2025/06/night-3078326_1280.jpg
LOCATION:Klosterkirche\, Haus vom Guten Hirten\, Schloßstr. 115 Hofheim-Ma
 rxheim\, Deutschland
X-APPLE-STRUCTURED-LOCATION;VALUE=URI;X-ADDRESS=Schloßstr. 115 Hofheim-Mar
 xheim\, Deutschland;X-APPLE-RADIUS=100;X-TITLE=Klosterkirche\, Haus vom Gu
 ten Hirten:geo:0,0
END:VEVENT
BEGIN:VTIMEZONE
TZID:Europe/Berlin
X-LIC-LOCATION:Europe/Berlin
BEGIN:DAYLIGHT
DTSTART:20250330T030000
TZOFFSETFROM:+0100
TZOFFSETTO:+0200
TZNAME:CEST
END:DAYLIGHT
END:VTIMEZONE
END:VCALENDAR