BEGIN:VCALENDAR
VERSION:2.0
PRODID:-//wp-events-plugin.com//7.2.3.1//EN
TZID:Europe/Berlin
X-WR-TIMEZONE:Europe/Berlin
BEGIN:VEVENT
UID:36@geistlicher-ort-hofheim.de
DTSTART;TZID=Europe/Berlin:20250224T193000
DTEND;TZID=Europe/Berlin:20250224T204500
DTSTAMP:20250616T200943Z
URL:https://geistlicher-ort-hofheim.de/unser-angebot/veranstaltungen/24-fe
 bruar-2025-bibelabend/
SUMMARY:Bibelabend
DESCRIPTION:Reihe: Wie Jesus aus den Quellen der jüdischen Tradition schö
 pft\nWas Christinnen und Christen gerne vergessen: Jesus war Jude. Seine Q
 uellen sind der Glaube Abrahams und Saras\, die Gottesoffenbarung im brenn
 enden Dornbusch\, die Weisungen des Mose\, die Erfahrungen der Prophetinne
 n und Propheten des Ersten Bundes. Wer Jesus von seinen jüdischen Quellen
  her zu verstehen sucht\, wird viel Neues entdecken und wird zu manchen Au
 ssagen\, die auf der ersten Blick unverständlich und irritierend sind\, Z
 ugang finden. Zu diesem Abenteuer laden die Bibelabende 2025 ein.\n\n24. F
 ebruar „Heute hat sich … erfüllt“ (Lk 4\,21)\nWarum war für Jesus 
 die Erfüllung des Gesetzes und der Propheten so wichtig und was meint er 
 damit?\n\nDie Bibelabende beginnen jeweils um 19:30 Uhr und enden in der R
 egel um 20:45 Uhr. Sie sind für alle Interessierten offen. Es wird kein E
 intritt erhoben.\nBegleitung: Helmut Schlegel\, Franziskaner
LOCATION:Drostesaal\, Haus von Guten Hirten\, Schloßstr. 115 Hofheim-Marxh
 eim\, Deutschland
X-APPLE-STRUCTURED-LOCATION;VALUE=URI;X-ADDRESS=Schloßstr. 115 Hofheim-Mar
 xheim\, Deutschland;X-APPLE-RADIUS=100;X-TITLE=Drostesaal\, Haus von Guten
  Hirten:geo:0,0
END:VEVENT
BEGIN:VTIMEZONE
TZID:Europe/Berlin
X-LIC-LOCATION:Europe/Berlin
BEGIN:STANDARD
DTSTART:20241027T020000
TZOFFSETFROM:+0200
TZOFFSETTO:+0100
TZNAME:CET
END:STANDARD
END:VTIMEZONE
END:VCALENDAR