BEGIN:VCALENDAR
VERSION:2.0
PRODID:-//wp-events-plugin.com//7.2.3.1//EN
TZID:Europe/Berlin
X-WR-TIMEZONE:Europe/Berlin
BEGIN:VEVENT
UID:12@geistlicher-ort-hofheim.de
DTSTART;TZID=Europe/Berlin:20250524T100000
DTEND;TZID=Europe/Berlin:20250524T170000
DTSTAMP:20250616T200847Z
URL:https://geistlicher-ort-hofheim.de/unser-angebot/veranstaltungen/24-ma
 i-2025-vom-kleinen-glueck-tanzen-zu-koennen-meditatives-tanzen/
SUMMARY:Vom kleinen Glück\, tanzen zu können – Meditatives Tanzen I
DESCRIPTION:…und sich dadurch Kraft für den Alltag zu holen. Wir laden S
 ie zu Kreistänzen ein.\nIn der Regel werden es leichte Tänze\, Schritte 
 und Gebärden sein. Texte und eine kleine abschließende Liturgie sollen d
 iesen Tag zu einer Einheit zusammenfassen. Bequeme Kleidung und Schuhe erl
 eichtern dabei das Tanzen.\nVerpflegung: Kaltgetränke und Nachmittagskaff
 ee werden gestellt.\nEingeladen sind Männer und Frauen\, die Freude am Ta
 nzen haben.\nLeitung: Beate Bendel\, Klinikseelsorgerin\, Frankfurt/Main\n
 (mit verschiedenen Ausbildungen in meditativem Tanz)\, Helmut Schlegel\, F
 ranziskaner\, Hofheim a.Ts.\nKosten: € 55 - Verpflegung gesondert\, Zeit
 : 10 - 17 Uhr\nZur Anmeldung\, Bezahlung und Verpflegung: Allgemeine Hinwe
 ise
LOCATION:Drostesaal\, Haus von Guten Hirten\, Schloßstr. 115 Hofheim-Marxh
 eim\, Deutschland
X-APPLE-STRUCTURED-LOCATION;VALUE=URI;X-ADDRESS=Schloßstr. 115 Hofheim-Mar
 xheim\, Deutschland;X-APPLE-RADIUS=100;X-TITLE=Drostesaal\, Haus von Guten
  Hirten:geo:0,0
END:VEVENT
BEGIN:VTIMEZONE
TZID:Europe/Berlin
X-LIC-LOCATION:Europe/Berlin
BEGIN:DAYLIGHT
DTSTART:20250330T030000
TZOFFSETFROM:+0100
TZOFFSETTO:+0200
TZNAME:CEST
END:DAYLIGHT
END:VTIMEZONE
END:VCALENDAR