BEGIN:VCALENDAR
VERSION:2.0
PRODID:-//wp-events-plugin.com//7.2.3.1//EN
TZID:Europe/Berlin
X-WR-TIMEZONE:Europe/Berlin
BEGIN:VEVENT
UID:4@geistlicher-ort-hofheim.de
DTSTART;TZID=Europe/Berlin:20240427T100000
DTEND;TZID=Europe/Berlin:20240427T170000
DTSTAMP:20250614T071242Z
URL:https://geistlicher-ort-hofheim.de/unser-angebot/veranstaltungen/27-ap
 ril-2024-meditatives-tanzen-i/
SUMMARY:Meditatives Tanzen I
DESCRIPTION:27.4.24\, 10-17h\, „Von guten Mächten wunderbar geborgen“ 
 (D. Bonhoeffer) - Meditatives Tanzen\n\nAn diesem Tag wollen wir Impulsen 
 vom Dietrich Bonhoeffer nachspüren und in Kreistänzen (Reigen) mit über
 lieferten Schritten und vorgefertigten Choreographien dies auch tänzerisc
 h ausdrücken.\nIn der Regel werden es einfache bis leichte Tänze\, Schri
 tte und Gebärden sein. Die Freude am Tanzen und Sich-Bewegen soll dabei i
 m Vordergrund stehen und sich als Gebet entfalten. Texte und eine kleine a
 bschließende Liturgie werden diesen Tag zu einer Einheit zusammenfassen.\
 nEingeladen sind Frauen und Männer jeden Alters – mit oder ohne Tanzerf
 ahrung!\n\nBegleitung: Beate Bendel\, Klinikseelsorgerin\, Frankfurt/Main 
 (mit verschiedenen Ausbildungen für meditierendes Tanzen)\, Helmut Schleg
 el\, Franziskaner\, Meditations- und Exerzitienleiter\, Hofheim\n\nKosten:
  55 € - Verpflegung gesondert\nZur Anmeldung\, Bezahlung und Verpflegung
 : s. allgemeine Hinweise
LOCATION:Meditationsraum\, Haus vom Guten Hirten\, Schloßstr. 11565719 Hof
 heim-Marxheim\, Deutschland
X-APPLE-STRUCTURED-LOCATION;VALUE=URI;X-ADDRESS=Schloßstr. 11565719 Hofhei
 m-Marxheim\, Deutschland;X-APPLE-RADIUS=100;X-TITLE=Meditationsraum\, Haus
  vom Guten Hirten:geo:0,0
END:VEVENT
BEGIN:VTIMEZONE
TZID:Europe/Berlin
X-LIC-LOCATION:Europe/Berlin
BEGIN:DAYLIGHT
DTSTART:20240331T030000
TZOFFSETFROM:+0100
TZOFFSETTO:+0200
TZNAME:CEST
END:DAYLIGHT
END:VTIMEZONE
END:VCALENDAR