BEGIN:VCALENDAR
VERSION:2.0
PRODID:-//wp-events-plugin.com//7.2.3.1//EN
TZID:Europe/Berlin
X-WR-TIMEZONE:Europe/Berlin
BEGIN:VEVENT
UID:8@geistlicher-ort-hofheim.de
DTSTART;TZID=Europe/Berlin:20251027T193000
DTEND;TZID=Europe/Berlin:20251027T204500
DTSTAMP:20251026T134326Z
URL:https://geistlicher-ort-hofheim.de/unser-angebot/veranstaltungen/27-ok
 tober-2025-bibelabend/
SUMMARY:Bibelabend
DESCRIPTION:„Ich aber sage euch…“ (Mt 5\,32) \n\nDie Bergpredigt Jesu
  ist Kern und Markenzeichen des Neuen Testamentes. Zum besseren Verständn
 is dienen die jüdischen Hintergründe und Wurzeln dieser Rede.\n\nReihe: 
 Wie Jesus aus den Quellen der jüdischen Tradition schöpft\nWas Christinn
 en und Christen gerne vergessen: Jesus war Jude. Seine Quellen sind der Gl
 aube Abrahams und Saras\, die Gottesoffenbarung im brennenden Dornbusch\, 
 die Weisungen des Mose\, die Erfahrungen der Prophetinnen und Propheten de
 s Ersten Bundes. Wer Jesus von seinen jüdischen Quellen her zu verstehen 
 sucht\, wird viel Neues entdecken und wird zu manchen Aussagen\, die auf d
 er ersten Blick unverständlich und irritierend sind\, Zugang finden. Zu d
 iesem Abenteuer laden die Bibelabende 2025 ein.\n\nDie Bibelabende beginne
 n jeweils um 19:30 Uhr und enden in der Regel um 20:45 Uhr. Sie sind für 
 alle Interessierten offen. Es wird kein Eintritt erhoben.\nBegleitung: Hel
 mut Schlegel\, Franziskaner
ATTACH;FMTTYPE=image/jpeg:https://geistlicher-ort-hofheim.de/wp-content/up
 loads/2025/06/menorah-5100275_1280.jpg
LOCATION:Drostesaal\, Haus von Guten Hirten\, Schloßstr. 115 Hofheim-Marxh
 eim\, Deutschland
X-APPLE-STRUCTURED-LOCATION;VALUE=URI;X-ADDRESS=Schloßstr. 115 Hofheim-Mar
 xheim\, Deutschland;X-APPLE-RADIUS=100;X-TITLE=Drostesaal\, Haus von Guten
  Hirten:geo:0,0
END:VEVENT
BEGIN:VTIMEZONE
TZID:Europe/Berlin
X-LIC-LOCATION:Europe/Berlin
BEGIN:STANDARD
DTSTART:20251026T020000
TZOFFSETFROM:+0200
TZOFFSETTO:+0100
TZNAME:CET
END:STANDARD
END:VTIMEZONE
END:VCALENDAR