BEGIN:VCALENDAR
VERSION:2.0
PRODID:-//wp-events-plugin.com//7.2.3.1//EN
TZID:Europe/Berlin
X-WR-TIMEZONE:Europe/Berlin
BEGIN:VEVENT
UID:1@geistlicher-ort-hofheim.de
DTSTART;TZID=Europe/Berlin:20250628T100000
DTEND;TZID=Europe/Berlin:20250628T170000
DTSTAMP:20250616T200753Z
URL:https://geistlicher-ort-hofheim.de/unser-angebot/veranstaltungen/28-ju
 ni-2025-alt-werden-als-geistlicher-weg/
SUMMARY:Alt werden als geistlicher Weg
DESCRIPTION:Noch immer stehen beim Thema Altwerden vor allem „Anti-Aging
 “ und Maßnahmen zum „Fitbleiben“ im Vordergrund. An diesem Tag soll
  es um das Gegenteil gehen: Um das Altwerden als spirituelle Praxis.
ATTACH;FMTTYPE=image/jpeg:https://geistlicher-ort-hofheim.de/wp-content/up
 loads/2025/06/pexels-christina99999-30692627.jpg
LOCATION:Drostesaal\, Haus von Guten Hirten\, Schloßstr. 115 Hofheim-Marxh
 eim\, Deutschland
X-APPLE-STRUCTURED-LOCATION;VALUE=URI;X-ADDRESS=Schloßstr. 115 Hofheim-Mar
 xheim\, Deutschland;X-APPLE-RADIUS=100;X-TITLE=Drostesaal\, Haus von Guten
  Hirten:geo:0,0
END:VEVENT
BEGIN:VTIMEZONE
TZID:Europe/Berlin
X-LIC-LOCATION:Europe/Berlin
BEGIN:DAYLIGHT
DTSTART:20250330T030000
TZOFFSETFROM:+0100
TZOFFSETTO:+0200
TZNAME:CEST
END:DAYLIGHT
END:VTIMEZONE
END:VCALENDAR