BEGIN:VCALENDAR
VERSION:2.0
PRODID:-//wp-events-plugin.com//7.2.3.1//EN
TZID:Europe/Berlin
X-WR-TIMEZONE:Europe/Berlin
BEGIN:VEVENT
UID:24@geistlicher-ort-hofheim.de
DTSTART;TZID=Europe/Berlin:20250629T160000
DTEND;TZID=Europe/Berlin:20250629T170000
DTSTAMP:20250627T073715Z
URL:https://geistlicher-ort-hofheim.de/unser-angebot/veranstaltungen/29-ju
 ni-2025-klang-und-gesang-musik-und-poesie/
SUMMARY:Klang und Gesang - Musik und Poesie
DESCRIPTION:Mit dem Gesangquartett ANIMA\, Kelkheim.\n\nOrt: Klosterkirche\
 , Zeit: 16 Uhr\n\nAn drei Sonntagen des Jahres laden wir professionellen M
 usiker\, Chorgruppen und Bands ein. Dazu tragen Norbert Lammers und Helmut
  Schlegel besinnliche und heitere Texte aus ihren Veröffentlichungen vor.
 \n\nSpende für den geistlichen Ort erbeten.
ATTACH;FMTTYPE=image/jpeg:https://geistlicher-ort-hofheim.de/wp-content/up
 loads/2025/06/Anima-3.jpg
LOCATION:Klosterkirche\, Haus vom Guten Hirten\, Schloßstr. 115 Hofheim-Ma
 rxheim\, Deutschland
X-APPLE-STRUCTURED-LOCATION;VALUE=URI;X-ADDRESS=Schloßstr. 115 Hofheim-Mar
 xheim\, Deutschland;X-APPLE-RADIUS=100;X-TITLE=Klosterkirche\, Haus vom Gu
 ten Hirten:geo:0,0
END:VEVENT
BEGIN:VTIMEZONE
TZID:Europe/Berlin
X-LIC-LOCATION:Europe/Berlin
BEGIN:DAYLIGHT
DTSTART:20250330T030000
TZOFFSETFROM:+0100
TZOFFSETTO:+0200
TZNAME:CEST
END:DAYLIGHT
END:VTIMEZONE
END:VCALENDAR