BEGIN:VCALENDAR
VERSION:2.0
PRODID:-//wp-events-plugin.com//7.2.3.1//EN
TZID:Europe/Berlin
X-WR-TIMEZONE:Europe/Berlin
BEGIN:VEVENT
UID:15@geistlicher-ort-hofheim.de
DTSTART;TZID=Europe/Berlin:20250503T100000
DTEND;TZID=Europe/Berlin:20250503T170000
DTSTAMP:20250616T200911Z
URL:https://geistlicher-ort-hofheim.de/unser-angebot/veranstaltungen/3-mai
 -2025-haltestelle-haltestille/
SUMMARY:HalteStelle.HalteStille.
DESCRIPTION:VERANSTALTUNGSREIHEN\nReihe HalteStelle.HalteStille\nManchmal t
 ut es gut\, sich eine kleine Auszeit zu gönnen. Sich herauszulösen aus d
 em Alltag und hineinzugehen in den Raum der Stille. Eine Zeit für mich 
 – eine Zeit für das göttliche Du – eine Zeit im Miteinander.\nDas An
 gebot HalteStelle.HalteStille möchte einen Rahmen schenken und lädt ein 
 zur persönlichen Besinnung und Orientierung der eigenen Lebenswirklichkei
 t.\nElemente: Übung zum Ankommen und Wahrnehmen\, thematischer Impuls\, Z
 eit für Stille und Gespräch\, Mahl-Zeit\, Gebet und Segen zum Aufbruch.\
 n\nKosten: € 30 – Verpflegung gesondert\nBegleitung: Br. Norbert Lamme
 rs\, Franziskaner\n\nZur Anmeldung\, Bezahlung und Verpflegung: Allgemeine
  Hinweise\nTermine 2025: 01.03./03.05./05.07./06.09./08.11. jeweils von 10
  –17 Uhr
LOCATION:Drostesaal\, Haus von Guten Hirten\, Schloßstr. 115 Hofheim-Marxh
 eim\, Deutschland
X-APPLE-STRUCTURED-LOCATION;VALUE=URI;X-ADDRESS=Schloßstr. 115 Hofheim-Mar
 xheim\, Deutschland;X-APPLE-RADIUS=100;X-TITLE=Drostesaal\, Haus von Guten
  Hirten:geo:0,0
END:VEVENT
BEGIN:VTIMEZONE
TZID:Europe/Berlin
X-LIC-LOCATION:Europe/Berlin
BEGIN:DAYLIGHT
DTSTART:20250330T030000
TZOFFSETFROM:+0100
TZOFFSETTO:+0200
TZNAME:CEST
END:DAYLIGHT
END:VTIMEZONE
END:VCALENDAR