BEGIN:VCALENDAR
VERSION:2.0
PRODID:-//wp-events-plugin.com//7.2.3.1//EN
TZID:Europe/Berlin
X-WR-TIMEZONE:Europe/Berlin
BEGIN:VEVENT
UID:6@geistlicher-ort-hofheim.de
DTSTART;TZID=Europe/Berlin:20250503T180000
DTEND;TZID=Europe/Berlin:20250503T190000
DTSTAMP:20250614T071150Z
URL:https://geistlicher-ort-hofheim.de/unser-angebot/veranstaltungen/3-okt
 ober-2025-transitus/
SUMMARY:Transitus
DESCRIPTION:Feier des Sterbens des Hl. Franziskus.\n\nKlosterkirche\, 18 Uh
 r.
LOCATION:Klosterkirche\, Haus vom Guten Hirten\, Schloßstr. 115 Hofheim-Ma
 rxheim\, Deutschland
X-APPLE-STRUCTURED-LOCATION;VALUE=URI;X-ADDRESS=Schloßstr. 115 Hofheim-Mar
 xheim\, Deutschland;X-APPLE-RADIUS=100;X-TITLE=Klosterkirche\, Haus vom Gu
 ten Hirten:geo:0,0
END:VEVENT
BEGIN:VTIMEZONE
TZID:Europe/Berlin
X-LIC-LOCATION:Europe/Berlin
BEGIN:DAYLIGHT
DTSTART:20250330T030000
TZOFFSETFROM:+0100
TZOFFSETTO:+0200
TZNAME:CEST
END:DAYLIGHT
END:VTIMEZONE
END:VCALENDAR