BEGIN:VCALENDAR
VERSION:2.0
PRODID:-//wp-events-plugin.com//7.2.3.1//EN
TZID:Europe/Berlin
X-WR-TIMEZONE:Europe/Berlin
BEGIN:VEVENT
UID:30@geistlicher-ort-hofheim.de
DTSTART;TZID=Europe/Berlin:20240504T100000
DTEND;TZID=Europe/Berlin:20240504T170000
DTSTAMP:20250614T072245Z
URL:https://geistlicher-ort-hofheim.de/unser-angebot/veranstaltungen/4-mai
 -2024-haltestelle-haltestille/
SUMMARY:HalteStelle.HalteStille
DESCRIPTION:4.5.24\,10-17h\, Reihe HalteStelle.HalteStille \n\nManchmal tut
  es gut\, sich eine kleine Auszeit zu gönnen. Sich herauszulösen aus dem
  Alltag und hineinzugehen in den Raum der Stille. Eine Zeit für mich – 
 eine Zeit für das göttliche Du – eine Zeit im Miteinander.\nDas Angebo
 t HalteStelle.HalteStille\, mehrmals im Jahr\, möchte einen Rahmen schenk
 en und lädt ein zur persönlichen Besinnung und Orientierung der eigenen 
 Lebenswirklichkeit.\n\nBegleitung: Norbert Lammers\, Franziskaner\n\nEleme
 nte: Übung zum Ankommen und Wahrnehmen\, thematischer Impuls\, Zeit für 
 Stille und Gespräch\, Mahl-Zeit\, Gebet und Segen\nzum Aufbruch.\n\nKoste
 n: € 30\,00 – Verpflegung gesondert\n\nZur Anmeldung\, Bezahlung und V
 erpflegung: Allgemeine Hinweise
LOCATION:Meditationsraum\, Haus vom Guten Hirten\, Schloßstr. 11565719 Hof
 heim-Marxheim\, Deutschland
X-APPLE-STRUCTURED-LOCATION;VALUE=URI;X-ADDRESS=Schloßstr. 11565719 Hofhei
 m-Marxheim\, Deutschland;X-APPLE-RADIUS=100;X-TITLE=Meditationsraum\, Haus
  vom Guten Hirten:geo:0,0
END:VEVENT
BEGIN:VTIMEZONE
TZID:Europe/Berlin
X-LIC-LOCATION:Europe/Berlin
BEGIN:DAYLIGHT
DTSTART:20240331T030000
TZOFFSETFROM:+0100
TZOFFSETTO:+0200
TZNAME:CEST
END:DAYLIGHT
END:VTIMEZONE
END:VCALENDAR