BEGIN:VCALENDAR
VERSION:2.0
PRODID:-//wp-events-plugin.com//7.2.3.1//EN
TZID:Europe/Berlin
X-WR-TIMEZONE:Europe/Berlin
BEGIN:VEVENT
UID:27@geistlicher-ort-hofheim.de
DTSTART;TZID=Europe/Berlin:20250405T110000
DTEND;TZID=Europe/Berlin:20250405T170000
DTSTAMP:20250616T200923Z
URL:https://geistlicher-ort-hofheim.de/unser-angebot/veranstaltungen/5-apr
 il-2025-mystik-am-samstag/
SUMMARY:Mystik am Samstag
DESCRIPTION:05. April 2025 „Die Quelle des Gartens bist du\, ein Brunnen 
 lebendigen Wassers“ (Hohes Lied 4\,15) – Die mystische Suche nach der 
 Quelle des Lebens\n\nWasser hat in allen Religionen eine mystische Bedeutu
 ng. Es lädt ein zur innerer Läuterung und ermutigt\, aus den göttlichen
  Quellen zu schöpfen. Jesus spricht davon\, dass wer vom Wasser des Leben
 s trinkt\, „selbst zu einer Quelle werde\, deren Wasser ins ewige Leben 
 fließt“ (Joh 4\,14). Wir werden uns dem Geheimnis des Wassers nähern\,
  die Worte Jesu meditieren und in der Meditation zulassen\, selbst zur Que
 lle des Lebens zu werden.\n\nIm Herzen Gottes sein – Reihe Mystik am Sam
 stag\nWir laden ein zu einem geistlichen Erfahrungsweg\, der unsere Seele 
 für das Geheimnis Gottes öffnet. Die Mystiktage 2025 orientieren sich an
  der Atmosphäre der vier Jahreszeiten und an den Geheimnissen der großen
  Feste (Lichtmess\, Ostern\, Erntedank\, Weihnachten).\nElemente: Biblisch
 e und spirituelle Impulse\, Zeiten der Stille in der Natur oder im Haus\, 
 mehrmals 15 Minuten Schweigemeditation\, Übungen\, Austausch\, Segensritu
 al.\nLeitung: Helmut Schlegel\, Franziskaner\, Exerzitien- und Meditations
 begleiter\, Hofheim\, Ricarda Moufang\, Exerzitienbegleiterin\, Frankfurt/
 M.\nZeit: Samstag\, 11-17 Uhr\nKosten: € 30-60\, je nach Einkommen\nHinw
 eis: Die Übungstage können einzeln besucht werden.
LOCATION:Drostesaal\, Haus von Guten Hirten\, Schloßstr. 115 Hofheim-Marxh
 eim\, Deutschland
X-APPLE-STRUCTURED-LOCATION;VALUE=URI;X-ADDRESS=Schloßstr. 115 Hofheim-Mar
 xheim\, Deutschland;X-APPLE-RADIUS=100;X-TITLE=Drostesaal\, Haus von Guten
  Hirten:geo:0,0
END:VEVENT
BEGIN:VTIMEZONE
TZID:Europe/Berlin
X-LIC-LOCATION:Europe/Berlin
BEGIN:DAYLIGHT
DTSTART:20250330T030000
TZOFFSETFROM:+0100
TZOFFSETTO:+0200
TZNAME:CEST
END:DAYLIGHT
END:VTIMEZONE
END:VCALENDAR