BEGIN:VCALENDAR
VERSION:2.0
PRODID:-//wp-events-plugin.com//7.2.3.1//EN
TZID:Europe/Berlin
X-WR-TIMEZONE:Europe/Berlin
BEGIN:VEVENT
UID:13@geistlicher-ort-hofheim.de
DTSTART;TZID=Europe/Berlin:20250705T000000
DTEND;TZID=Europe/Berlin:20250705T000000
DTSTAMP:20250627T074022Z
URL:https://geistlicher-ort-hofheim.de/unser-angebot/veranstaltungen/5-jul
 i-2025-haltestelle-haltestille/
SUMMARY:HalteStelle.HalteStille
DESCRIPTION:Manchmal tut es gut\, sich eine kleine Auszeit zu gönnen. Sich
  herauszulösen aus dem Alltag und hineinzugehen in den Raum der Stille. E
 ine Zeit für mich – eine Zeit für das göttliche Du – eine Zeit im M
 iteinander.\nDas Angebot HalteStelle.HalteStille möchte einen Rahmen sche
 nken und lädt ein zur persönlichen Besinnung und Orientierung der eigene
 n Lebenswirklichkeit.\nElemente: Übung zum Ankommen und Wahrnehmen\, them
 atischer Impuls\, Zeit für Stille und Gespräch\, Mahl-Zeit\, Gebet und S
 egen zum Aufbruch\nKosten: € 30 – Verpflegung gesondert\nBegleitung: B
 r. Norbert Lammers\, Franziskaner\nZur Anmeldung\, Bezahlung und Verpflegu
 ng: Allgemeine Hinweise\nTermine 2025: 01.03./03.05./05.07./06.09./08.11. 
 jeweils von 10 –17 Uhr
ATTACH;FMTTYPE=image/jpeg:https://geistlicher-ort-hofheim.de/wp-content/up
 loads/2025/06/landscape-5591270_1280.jpg
LOCATION:Drostesaal\, Haus von Guten Hirten\, Schloßstr. 115 Hofheim-Marxh
 eim\, Deutschland
X-APPLE-STRUCTURED-LOCATION;VALUE=URI;X-ADDRESS=Schloßstr. 115 Hofheim-Mar
 xheim\, Deutschland;X-APPLE-RADIUS=100;X-TITLE=Drostesaal\, Haus von Guten
  Hirten:geo:0,0
END:VEVENT
BEGIN:VTIMEZONE
TZID:Europe/Berlin
X-LIC-LOCATION:Europe/Berlin
BEGIN:DAYLIGHT
DTSTART:20250330T030000
TZOFFSETFROM:+0100
TZOFFSETTO:+0200
TZNAME:CEST
END:DAYLIGHT
END:VTIMEZONE
END:VCALENDAR