BEGIN:VCALENDAR
VERSION:2.0
PRODID:-//wp-events-plugin.com//7.2.3.1//EN
TZID:Europe/Berlin
X-WR-TIMEZONE:Europe/Berlin
BEGIN:VEVENT
UID:23@geistlicher-ort-hofheim.de
DTSTART;TZID=Europe/Berlin:20251206T110000
DTEND;TZID=Europe/Berlin:20251206T170000
DTSTAMP:20251104T102202Z
URL:https://geistlicher-ort-hofheim.de/unser-angebot/veranstaltungen/6-dez
 ember-2025-mystik-am-samstag/
SUMMARY:Mystik am Samstag
DESCRIPTION:\n\n6. Dezember 2025 „Gott will in mir geboren werden“ –
  Die Mystik der Gottesgeburt in uns. \n\nMenschwerdung ist mehr als ein hi
 storisches Ereignis und ein Fest im Kirchenjahr. Menschwerdung ist das Ges
 chenk\, dass Gott in mir Mensch wird und ich dabei zur Fülle meines Mensc
 hseins finde. Wir werden an diesem Tag die Schönheit und Tiefe der biblis
 chen Weihnachtserzählungen neu entdecken und meditieren. Wir werden in ei
 nfachen Gebetsgebärden die eigene Menschwerdung erfahren.\n\nIm Herzen Go
 ttes sein – Reihe Mystik am Samstag  \n\nWir laden ein zu einem geistli
 chen Erfahrungsweg\, der unsere Seele für das Geheimnis Gottes öffnet. D
 ie Mystiktage 2025 orientieren sich an der Atmosphäre der vier Jahreszeit
 en und an den Geheimnissen der großen Feste (Lichtmess\, Ostern\, Ernteda
 nk\, Weihnachten).\n\nElemente:       Biblische und spirituelle Impul
 se\, Zeiten der Stille in der Natur oder im Haus\, mehrmals 15 Minuten Sch
 weigemeditation\, Übungen\, Austausch\, Segensritual. \n\nLeitung:    
        Helmut Schlegel\, Franziskaner\, Exerzitien- und Meditationsb
 egleiter\, Hofheim\, Ricarda Moufang\, Exerzitienbegleiterin\, Frankfurt/M
 .\n\nZeit:                 Samstag\, 11-17 Uhr\n\nKosten: 
           € 30-60\, je nach Einkommen \n\nHinweis:       
    Die Übungstage können einzeln besucht werden. \n\n\n\n\n\n\n\n\n\n\
 n\n
ATTACH;FMTTYPE=image/jpeg:https://geistlicher-ort-hofheim.de/wp-content/up
 loads/2025/06/christ-1618197_1280.jpg
LOCATION:Drostesaal\, Haus von Guten Hirten\, Schloßstr. 115 Hofheim-Marxh
 eim\, Deutschland
X-APPLE-STRUCTURED-LOCATION;VALUE=URI;X-ADDRESS=Schloßstr. 115 Hofheim-Mar
 xheim\, Deutschland;X-APPLE-RADIUS=100;X-TITLE=Drostesaal\, Haus von Guten
  Hirten:geo:0,0
END:VEVENT
BEGIN:VTIMEZONE
TZID:Europe/Berlin
X-LIC-LOCATION:Europe/Berlin
BEGIN:STANDARD
DTSTART:20251026T020000
TZOFFSETFROM:+0200
TZOFFSETTO:+0100
TZNAME:CET
END:STANDARD
END:VTIMEZONE
END:VCALENDAR