BEGIN:VCALENDAR
VERSION:2.0
PRODID:-//wp-events-plugin.com//7.2.3.1//EN
TZID:Europe/Berlin
X-WR-TIMEZONE:Europe/Berlin
BEGIN:VEVENT
UID:18@geistlicher-ort-hofheim.de
DTSTART;TZID=Europe/Berlin:20251207T160000
DTEND;TZID=Europe/Berlin:20251207T170000
DTSTAMP:20250930T075634Z
URL:https://geistlicher-ort-hofheim.de/unser-angebot/veranstaltungen/7-dez
 ember-2025-klang-und-gesang-advents-mitsing-konzert/
SUMMARY:Klang und Gesang - Advents-Mitsing-Konzert
DESCRIPTION:Mit dem TRIO VARIO Mainz - Henrik Schuld/Orgel\, Tim Thrin/Trom
 pete\, Steffen Hillinger/Trompete\n\nAdventslieder zum Lauschen und Mitsin
 gen in festlicher Stimmung.\n\nOrt: Klosterkirche\, Zeit: 16 Uhr\n\nAn dre
 i Sonntagen des Jahres laden wir professionellen Musiker\, Chorgruppen und
  Bands ein. Dazu tragen Norbert Lammers und Helmut Schlegel besinnliche un
 d heitere Texte aus ihren Veröffentlichungen vor.\n\nSpende für den geis
 tlichen Ort erbeten.
ATTACH;FMTTYPE=image/jpeg:https://geistlicher-ort-hofheim.de/wp-content/up
 loads/2025/09/730588.jpeg
LOCATION:Klosterkirche\, Haus vom Guten Hirten\, Schloßstr. 115 Hofheim-Ma
 rxheim\, Deutschland
X-APPLE-STRUCTURED-LOCATION;VALUE=URI;X-ADDRESS=Schloßstr. 115 Hofheim-Mar
 xheim\, Deutschland;X-APPLE-RADIUS=100;X-TITLE=Klosterkirche\, Haus vom Gu
 ten Hirten:geo:0,0
END:VEVENT
BEGIN:VTIMEZONE
TZID:Europe/Berlin
X-LIC-LOCATION:Europe/Berlin
BEGIN:STANDARD
DTSTART:20251026T020000
TZOFFSETFROM:+0200
TZOFFSETTO:+0100
TZNAME:CET
END:STANDARD
END:VTIMEZONE
END:VCALENDAR