BEGIN:VCALENDAR
VERSION:2.0
PRODID:-//wp-events-plugin.com//7.2.3.1//EN
TZID:Europe/Berlin
X-WR-TIMEZONE:Europe/Berlin
BEGIN:VEVENT
UID:29@geistlicher-ort-hofheim.de
DTSTART;TZID=Europe/Berlin;VALUE=DATE:20250307
DTEND;TZID=Europe/Berlin;VALUE=DATE:20250308
DTSTAMP:20250614T072201Z
URL:https://geistlicher-ort-hofheim.de/unser-angebot/veranstaltungen/7-mae
 rz-2025-inseln-der-migration-sizilien-und-lampedusa/
SUMMARY:Inseln der Migration - Sizilien und Lampedusa
DESCRIPTION:Die Inseln der Hoffnung - ein Reisebericht von den Orten der Mi
 gration im Süden Italiens - Vortrag und Gespräch\n\nDrei Frauen reisen i
 m September 2024 mit anderen zivilgesellschaftlich und kirchlich engagiert
 en Menschen auf die Inseln Sizilien und Lampedusa. Für über das Mittelme
 er nach Europa Flüchtende endet auf diesen Inseln ein lebensgefährliches
  Wagnis. Diese Inseln gelten ihnen daher als Inseln der Hoffnung. Zugleich
  sind sie der Ort\, an dem beispielhaft die gewaltigen Herausforderungen d
 eutlich werden\, die mit der Aufnahme dieser Menschen verbunden sind.\nMit
  Jana Freudenberger\, Migrationsexpertin\, Anna Lea Meinhardt\, Psychologi
 n und Kerstin Meinhardt\, Soziologin. –\nOrt: Drostesaal\, Hofheim-Marxh
 eim - Um einen Spende wird gebeten
LOCATION:Drostesaal\, Haus von Guten Hirten\, Schloßstr. 115 Hofheim-Marxh
 eim\, Deutschland
X-APPLE-STRUCTURED-LOCATION;VALUE=URI;X-ADDRESS=Schloßstr. 115 Hofheim-Mar
 xheim\, Deutschland;X-APPLE-RADIUS=100;X-TITLE=Drostesaal\, Haus von Guten
  Hirten:geo:0,0
END:VEVENT
BEGIN:VTIMEZONE
TZID:Europe/Berlin
X-LIC-LOCATION:Europe/Berlin
BEGIN:STANDARD
DTSTART:20241027T020000
TZOFFSETFROM:+0200
TZOFFSETTO:+0100
TZNAME:CET
END:STANDARD
END:VTIMEZONE
END:VCALENDAR