BEGIN:VCALENDAR
VERSION:2.0
PRODID:-//wp-events-plugin.com//7.2.3.1//EN
TZID:Europe/Berlin
X-WR-TIMEZONE:Europe/Berlin
BEGIN:VEVENT
UID:31@geistlicher-ort-hofheim.de
DTSTART;TZID=Europe/Berlin:20240608T100000
DTEND;TZID=Europe/Berlin:20240608T170000
DTSTAMP:20250614T072503Z
URL:https://geistlicher-ort-hofheim.de/unser-angebot/veranstaltungen/8-jun
 i-2024-dem-leben-auf-der-spur-spiritueller-wandertag/
SUMMARY:"Dem Leben auf der Spur" - Spiritueller Wandertag
DESCRIPTION:8.6.24\, 10-17h\, "Dem Leben auf der Spur" - Spiritualität unt
 erwegs – Spiritueller Wandertag\n\nUnterwegs sein in der Natur – sich 
 selbst und die Mitwelt wahrnehmen und nachspüren\, wie ich getragen bin.
  Dazu möchte der spirituelle Wander-Tag einladen und ermutigen.\n\nMitbri
 ngen: Tagesrucksack\, gutes Schuhwerk\, Sonnenschutz bzw. Regenschutz. Pro
 viant (Verpflegung und Getränke) für unterwegs bringt jede*r mit.\n\nEle
 mente: Übung zum Ankommen\, Impuls\, Zeit für Stille unterwegs\, Stärku
 ng in Mahl und Gespräch\, Segens-Ritual zum Abschluss.\n\nKosten: € 30\
 ,00. Treffpunkt: Haus vom Guten Hirten\, Maria-Droste-Saal. Näheres zum W
 eg und Ziel erfahren Sie in einem Infoschreiben.\n\nBegleitung: Norbert La
 mmers\, Franziskaner Zur Anmeldung\, Bezahlung und Verpflegung: Allgemeine
  Hinweise\nTermine: 09.03. / 08.06. / 14.09.\, jeweils 10-17 Uhr
LOCATION:Drostesaal\, Haus von Guten Hirten\, Schloßstr. 115 Hofheim-Marxh
 eim\, Deutschland
X-APPLE-STRUCTURED-LOCATION;VALUE=URI;X-ADDRESS=Schloßstr. 115 Hofheim-Mar
 xheim\, Deutschland;X-APPLE-RADIUS=100;X-TITLE=Drostesaal\, Haus von Guten
  Hirten:geo:0,0
END:VEVENT
BEGIN:VTIMEZONE
TZID:Europe/Berlin
X-LIC-LOCATION:Europe/Berlin
BEGIN:DAYLIGHT
DTSTART:20240331T030000
TZOFFSETFROM:+0100
TZOFFSETTO:+0200
TZNAME:CEST
END:DAYLIGHT
END:VTIMEZONE
END:VCALENDAR