BEGIN:VCALENDAR
VERSION:2.0
PRODID:-//wp-events-plugin.com//7.2.3.1//EN
TZID:Europe/Berlin
X-WR-TIMEZONE:Europe/Berlin
BEGIN:VEVENT
UID:16@geistlicher-ort-hofheim.de
DTSTART;TZID=Europe/Berlin:20250509T190000
DTEND;TZID=Europe/Berlin:20250509T231500
DTSTAMP:20250614T055851Z
URL:https://geistlicher-ort-hofheim.de/unser-angebot/veranstaltungen/9-mai
 -2025-liturgische-nacht/
SUMMARY:Liturgische Nacht
DESCRIPTION:HOFFEN – HEIL WERDEN – SEGNEN Liturgische Nächte\n\nDer Be
 ginn einer Nacht hat eine besondere Kraft. Die einbrechende Dunkelheit hat
  etwas Beschützendes und lässt uns unserem Inneren nahekommen. Liturgisc
 he Nächte öffnen Zeit- und Herzensräume\, um Gott\, sich selbst und den
  Menschen näherzukommen. Wir laden dazu ein\, an drei Freitagen des Jahre
 s miteinander eine liturgische Nacht zu feiern. Unter dem Motto „Unsere 
 Hoffnung enttäuscht nicht“ (Röm 5\,5) hat Papst Franziskus 2025 zu ein
 em Heiligen Jahr erklärt. Darum stellen wir die drei Liturgischen Nächte
  unter die Themen HOFFEN – HEIL WERDEN – SEGNEN. Treffpunkt ist jeweil
 s der Drostesaal im Haus vom Guten Hirten\, Hofheim-Marxheim\nEingeladen s
 ind Menschen aller Generationen. Anmeldung ist nicht notwendig.\n\nAblauf:
 \n19:00 Uhr: Kennenlernen und Einstimmung rund um ein einfaches Mitbring-B
 uffet\n20:00 Uhr: Impulse und Fragen von Menschen verschiedener Generation
 en zum jeweiligen Thema\n20:15 Uhr: Stille Zeit – Rückzugmöglichkeit i
 n den Meditationsraum zur persönlichen Kontemplation\, in die kleine kerz
 enerleuchtete Marienkapelle\, in die Kirche bei leiser Musik\, in den nahe
 \ngelegenen Wald zu einem Spaziergang…\n20:45 Uhr: Teegespräche in Drei
 er Gruppen\n21:30 Uhr: Offenes Singen\n22:15 Uhr: Eucharistiefeier\n23:15 
 Uhr: Gute-Nacht-Segen und Abschluss\nLeitung und Gestaltung: Odila Machill
 \, Pastoralreferentin\, Matthias Adler-Machill\, Pastoralreferent\, Bärbe
 l Hasselbach\, Gemeindereferentin\, Br. Norbert Lammers\, Franziskaner\, B
 r. Helmut Schlegel\, Franziskaner Ort: Drostesaal/Klosterkirche\n\n09. Mai
 : „Unsere Hoffnung enttäuscht nicht“ (Röm 5\,5).\n\nEin Abend\, an d
 em wir uns bewusst machen\, dass es lohnt\, trotz aller Enttäuschungen zu
  hoffen.
LOCATION:Klosterkirche\, Haus vom Guten Hirten\, Schloßstr. 115 Hofheim-Ma
 rxheim\, Deutschland
X-APPLE-STRUCTURED-LOCATION;VALUE=URI;X-ADDRESS=Schloßstr. 115 Hofheim-Mar
 xheim\, Deutschland;X-APPLE-RADIUS=100;X-TITLE=Klosterkirche\, Haus vom Gu
 ten Hirten:geo:0,0
END:VEVENT
BEGIN:VTIMEZONE
TZID:Europe/Berlin
X-LIC-LOCATION:Europe/Berlin
BEGIN:DAYLIGHT
DTSTART:20250330T030000
TZOFFSETFROM:+0100
TZOFFSETTO:+0200
TZNAME:CEST
END:DAYLIGHT
END:VTIMEZONE
END:VCALENDAR