BEGIN:VCALENDAR
VERSION:2.0
PRODID:-//wp-events-plugin.com//7.2.3.1//EN
TZID:Europe/Berlin
X-WR-TIMEZONE:Europe/Berlin
BEGIN:VEVENT
UID:50@geistlicher-ort-hofheim.de
DTSTART;TZID=Europe/Berlin:20251209T110000
DTEND;TZID=Europe/Berlin:20251209T190000
DTSTAMP:20251020T065506Z
URL:https://geistlicher-ort-hofheim.de/unser-angebot/veranstaltungen/jahre
 skurs-leiten-und-begleiten/
SUMMARY:Jahreskurs "Leiten und Begleiten"
DESCRIPTION:Ein besonderes Angebot für 2026:\n\nLeiten und Begleiten auf B
 asis spiritueller Grundwerte\n\nJahreskurs für Menschen in und mit (Leitu
 ngs)verantwortung\n\n4 Präsenztermine\, 4 Online-Workshops\, 4 E-Mails Im
 pulse\, Übungsbuch „Spiritual Coaching“ für die Übungen zuhause\, A
 bschluss mit Zertifikat\n\nVeranstalter und Ort der Präsenztermine:\n\nGe
 istlicher Ort Hofheim im Kloster vom Guten Hirten · Schlossstraße 115 ·
  65719 Hofheim.\n\nTermine (Präsenztermine): 21. März\, 20. Juni\, 22. A
 ugust\, 12. Dezember (jeweils samstags)\n\nKursleitung:\n\nAndrea Freund\,
  Heilpraktikerin\; Hypnotherapeutin\, Meditationsleiterin\, Wiesbaden\,\n\
 nBr. Helmut Schlegel\, Franziskaner\, Meditations- und Exerzitienleiter\, 
 Autor\, Hofheim\n\nAnmeldung:\n\nAuf E-Mail-Anfrage an kontakt@geistlicher
 -ort-hofheim.de wird Ihnen das Anmeldeformular zugeschickt. Schriftl. Anme
 ldung bis 15. Februar 2026.\n\nUnter diesem Link können Sie die ausführl
 iche Beschreibung als pdf-Datei einsehen.\n\nJahreskurs Leiten und Begleit
 en\n\n(Foto: Dr. Wolfgang Gerhardt)
ATTACH;FMTTYPE=image/jpeg:https://geistlicher-ort-hofheim.de/wp-content/up
 loads/2025/10/Z08_5977-5_1815.jpg
LOCATION:Drostesaal\, Haus von Guten Hirten\, Schloßstr. 115 Hofheim-Marxh
 eim\, Deutschland
X-APPLE-STRUCTURED-LOCATION;VALUE=URI;X-ADDRESS=Schloßstr. 115 Hofheim-Mar
 xheim\, Deutschland;X-APPLE-RADIUS=100;X-TITLE=Drostesaal\, Haus von Guten
  Hirten:geo:0,0
END:VEVENT
BEGIN:VTIMEZONE
TZID:Europe/Berlin
X-LIC-LOCATION:Europe/Berlin
BEGIN:STANDARD
DTSTART:20251026T020000
TZOFFSETFROM:+0200
TZOFFSETTO:+0100
TZNAME:CET
END:STANDARD
END:VTIMEZONE
END:VCALENDAR