BEGIN:VCALENDAR
VERSION:2.0
PRODID:-//wp-events-plugin.com//7.2.3.1//EN
TZID:Europe/Berlin
X-WR-TIMEZONE:Europe/Berlin
BEGIN:VEVENT
UID:49@geistlicher-ort-hofheim.de
DTSTART;TZID=Europe/Berlin:20251115T190000
DTEND;TZID=Europe/Berlin:20251115T210000
DTSTAMP:20251021T082443Z
URL:https://geistlicher-ort-hofheim.de/unser-angebot/veranstaltungen/schoe
 pfungsnacht/
SUMMARY:Schöpfungsnacht
DESCRIPTION:Musik\, Kunst und Text zu 800 Jahre Sonnengesang des heiligen F
 ranz von Assisi\n\nmit 7 Chören\, einer Künstlergruppe und Br. Helmut Sc
 hlegel\n\nOrt: St. Katharina\, Bad Soden\,\n\nZeit: Samstag\, 15\, Novembe
 r 2025\, 19 Uhr
ATTACH;FMTTYPE=image/jpeg:https://geistlicher-ort-hofheim.de/wp-content/up
 loads/2025/10/Plakat-Schoepfungsnacht-Seite001.jpeg
LOCATION:St. Katharina\, Bad Soden\, St. Katharina Bad Soden\, Deutschland
X-APPLE-STRUCTURED-LOCATION;VALUE=URI;X-ADDRESS=St. Katharina Bad Soden\, D
 eutschland;X-APPLE-RADIUS=100;X-TITLE=St. Katharina\, Bad Soden:geo:0,0
END:VEVENT
BEGIN:VTIMEZONE
TZID:Europe/Berlin
X-LIC-LOCATION:Europe/Berlin
BEGIN:STANDARD
DTSTART:20251026T020000
TZOFFSETFROM:+0200
TZOFFSETTO:+0100
TZNAME:CET
END:STANDARD
END:VTIMEZONE
END:VCALENDAR